BEGIN:VCALENDAR
VERSION:2.0
PRODID:-//Maryam Sinclair - ECPv6.15.1.1//NONSGML v1.0//EN
CALSCALE:GREGORIAN
METHOD:PUBLISH
X-ORIGINAL-URL:https://www.stories-of-light.com
X-WR-CALDESC:Events for Maryam Sinclair
REFRESH-INTERVAL;VALUE=DURATION:PT1H
X-Robots-Tag:noindex
X-PUBLISHED-TTL:PT1H
BEGIN:VTIMEZONE
TZID:America/Halifax
BEGIN:DAYLIGHT
TZOFFSETFROM:-0400
TZOFFSETTO:-0300
TZNAME:ADT
DTSTART:20240310T060000
END:DAYLIGHT
BEGIN:STANDARD
TZOFFSETFROM:-0300
TZOFFSETTO:-0400
TZNAME:AST
DTSTART:20241103T050000
END:STANDARD
END:VTIMEZONE
BEGIN:VEVENT
DTSTART;TZID=America/Halifax:20240427T140000
DTEND;TZID=America/Halifax:20240427T170000
DTSTAMP:20260423T174057
CREATED:20240326T115954Z
LAST-MODIFIED:20240424T032458Z
UID:1654-1714226400-1714237200@www.stories-of-light.com
SUMMARY:Jam'e Masjid Mississauga (Coopers Masjid)
DESCRIPTION:
URL:https://www.stories-of-light.com/event/coopers-masjid/
END:VEVENT
BEGIN:VEVENT
DTSTART;TZID=America/Halifax:20240426T190000
DTEND;TZID=America/Halifax:20240426T220000
DTSTAMP:20260423T174057
CREATED:20240326T120034Z
LAST-MODIFIED:20240425T010839Z
UID:1653-1714158000-1714168800@www.stories-of-light.com
SUMMARY:ISNA (Public)
DESCRIPTION:7:00 pm – Maghreb – Fall of the Tyrant Story-telling\nAfter Maghreb to 10:00 pm – Bowing of the Stars book signing
URL:https://www.stories-of-light.com/event/isna/
END:VEVENT
BEGIN:VEVENT
DTSTART;TZID=America/Halifax:20240425T090000
DTEND;TZID=America/Halifax:20240425T120000
DTSTAMP:20260423T174057
CREATED:20240418T062132Z
LAST-MODIFIED:20240418T165546Z
UID:1848-1714035600-1714046400@www.stories-of-light.com
SUMMARY:Gibraltar Leadership Academy (Private)
DESCRIPTION:
URL:https://www.stories-of-light.com/event/gibraltar-leadership-academy/
END:VEVENT
BEGIN:VEVENT
DTSTART;TZID=America/Halifax:20240421T090000
DTEND;TZID=America/Halifax:20240421T153000
DTSTAMP:20260423T174057
CREATED:20240326T115358Z
LAST-MODIFIED:20240418T165448Z
UID:1649-1713690000-1713713400@www.stories-of-light.com
SUMMARY:ISAC Retreat Workshop (Public)
DESCRIPTION:
URL:https://www.stories-of-light.com/event/isac-retreat-workshop/
END:VEVENT
BEGIN:VEVENT
DTSTART;TZID=America/Halifax:20240420T090000
DTEND;TZID=America/Halifax:20240420T170000
DTSTAMP:20260423T174057
CREATED:20240326T115320Z
LAST-MODIFIED:20240418T165433Z
UID:1647-1713603600-1713632400@www.stories-of-light.com
SUMMARY:ISAC Conference Workshop (Public)
DESCRIPTION:
URL:https://www.stories-of-light.com/event/isac-conference-workshop/
END:VEVENT
END:VCALENDAR