BEGIN:VCALENDAR
VERSION:2.0
PRODID:-//Maryam Sinclair - ECPv6.15.1.1//NONSGML v1.0//EN
CALSCALE:GREGORIAN
METHOD:PUBLISH
X-ORIGINAL-URL:https://www.stories-of-light.com
X-WR-CALDESC:Events for Maryam Sinclair
REFRESH-INTERVAL;VALUE=DURATION:PT1H
X-Robots-Tag:noindex
X-PUBLISHED-TTL:PT1H
BEGIN:VTIMEZONE
TZID:America/Halifax
BEGIN:DAYLIGHT
TZOFFSETFROM:-0400
TZOFFSETTO:-0300
TZNAME:ADT
DTSTART:20240310T060000
END:DAYLIGHT
BEGIN:STANDARD
TZOFFSETFROM:-0300
TZOFFSETTO:-0400
TZNAME:AST
DTSTART:20241103T050000
END:STANDARD
END:VTIMEZONE
BEGIN:VTIMEZONE
TZID:UTC
BEGIN:STANDARD
TZOFFSETFROM:+0000
TZOFFSETTO:+0000
TZNAME:UTC
DTSTART:20240101T000000
END:STANDARD
END:VTIMEZONE
BEGIN:VEVENT
DTSTART;TZID=America/Halifax:20240517T190000
DTEND;TZID=America/Halifax:20240517T203000
DTSTAMP:20260423T161103
CREATED:20240505T064054Z
LAST-MODIFIED:20240507T165921Z
UID:1921-1715972400-1715977800@www.stories-of-light.com
SUMMARY:Muslim Neighbour Nexus (Public)
DESCRIPTION:Performance of “The Fall of the Tyrant”
URL:https://www.stories-of-light.com/event/muslim-neighbour-nexus-public/
END:VEVENT
BEGIN:VEVENT
DTSTART;TZID=UTC:20240512T140000
DTEND;TZID=UTC:20240512T170000
DTSTAMP:20260423T161103
CREATED:20240403T154258Z
LAST-MODIFIED:20240424T032914Z
UID:1778-1715522400-1715533200@www.stories-of-light.com
SUMMARY:Abu Bakr Masjid (Public)
DESCRIPTION:
URL:https://www.stories-of-light.com/event/abu-bakr-masjid-2/
END:VEVENT
BEGIN:VEVENT
DTSTART;TZID=America/Halifax:20240512T100000
DTEND;TZID=America/Halifax:20240512T110000
DTSTAMP:20260423T161103
CREATED:20240419T083541Z
LAST-MODIFIED:20240507T165902Z
UID:1886-1715508000-1715511600@www.stories-of-light.com
SUMMARY:Happy Strong Family Podcast (Public)
DESCRIPTION:
URL:https://www.stories-of-light.com/event/happy-strong-family-podcast-2/
END:VEVENT
BEGIN:VEVENT
DTSTART;TZID=America/Halifax:20240511T140000
DTEND;TZID=America/Halifax:20240511T153000
DTSTAMP:20260423T161103
CREATED:20240427T085434Z
LAST-MODIFIED:20240427T085434Z
UID:1912-1715436000-1715441400@www.stories-of-light.com
SUMMARY:Pickering Islamic Centre (Masjid Usman) (Public)
DESCRIPTION:
URL:https://www.stories-of-light.com/event/pickering-islamic-centre-masjid-usman-public/
END:VEVENT
BEGIN:VEVENT
DTSTART;TZID=America/Halifax:20240510T100000
DTEND;TZID=America/Halifax:20240510T120000
DTSTAMP:20260423T161103
CREATED:20240507T064339Z
LAST-MODIFIED:20240507T165835Z
UID:1926-1715335200-1715342400@www.stories-of-light.com
SUMMARY:Shajara Montessori -Cosmic Kids Program (Private)
DESCRIPTION:A Trust of Treasures & The Creation of the Universe
URL:https://www.stories-of-light.com/event/shajara-montessori-cosmic-kids-program-private/
END:VEVENT
BEGIN:VEVENT
DTSTART;TZID=UTC:20240509T180000
DTEND;TZID=UTC:20240509T190000
DTSTAMP:20260423T161103
CREATED:20240507T064204Z
LAST-MODIFIED:20240507T165812Z
UID:1924-1715277600-1715281200@www.stories-of-light.com
SUMMARY:Firdous Books (Private)
DESCRIPTION:
URL:https://www.stories-of-light.com/event/firdous-books-private/
END:VEVENT
BEGIN:VEVENT
DTSTART;TZID=UTC:20240508T140000
DTEND;TZID=UTC:20240508T154500
DTSTAMP:20260423T161103
CREATED:20240404T103401Z
LAST-MODIFIED:20240424T032717Z
UID:1783-1715176800-1715183100@www.stories-of-light.com
SUMMARY:Lote Tree School (Private)
DESCRIPTION:
URL:https://www.stories-of-light.com/event/lote-tree-school/
END:VEVENT
BEGIN:VEVENT
DTSTART;TZID=America/Halifax:20240505T110000
DTEND;TZID=America/Halifax:20240505T123000
DTSTAMP:20260423T161103
CREATED:20240424T033036Z
LAST-MODIFIED:20240424T033036Z
UID:1906-1714906800-1714912200@www.stories-of-light.com
SUMMARY:TARIC Islamic Sunday School
DESCRIPTION:
URL:https://www.stories-of-light.com/event/taric-islamic-sunday-school/
END:VEVENT
BEGIN:VEVENT
DTSTART;TZID=America/Halifax:20240503T190000
DTEND;TZID=America/Halifax:20240503T201500
DTSTAMP:20260423T161103
CREATED:20240418T062230Z
LAST-MODIFIED:20240418T165606Z
UID:1850-1714762800-1714767300@www.stories-of-light.com
SUMMARY:Sayeda Khadija Center Masjid (Public)
DESCRIPTION:
URL:https://www.stories-of-light.com/event/sayeda-khadija-center-masjid/
END:VEVENT
BEGIN:VEVENT
DTSTART;TZID=America/Halifax:20240428T150000
DTEND;TZID=America/Halifax:20240428T173000
DTSTAMP:20260423T161103
CREATED:20240326T115740Z
LAST-MODIFIED:20240424T032620Z
UID:1655-1714316400-1714325400@www.stories-of-light.com
SUMMARY:Ar-Rashaad Centre & Toronto Muslim Home-schooling Group (Public)
DESCRIPTION:
URL:https://www.stories-of-light.com/event/ar-rashaad-centre-tmh/
END:VEVENT
BEGIN:VEVENT
DTSTART;TZID=America/Halifax:20240427T140000
DTEND;TZID=America/Halifax:20240427T170000
DTSTAMP:20260423T161103
CREATED:20240326T115954Z
LAST-MODIFIED:20240424T032458Z
UID:1654-1714226400-1714237200@www.stories-of-light.com
SUMMARY:Jam'e Masjid Mississauga (Coopers Masjid)
DESCRIPTION:
URL:https://www.stories-of-light.com/event/coopers-masjid/
END:VEVENT
BEGIN:VEVENT
DTSTART;TZID=America/Halifax:20240426T190000
DTEND;TZID=America/Halifax:20240426T220000
DTSTAMP:20260423T161103
CREATED:20240326T120034Z
LAST-MODIFIED:20240425T010839Z
UID:1653-1714158000-1714168800@www.stories-of-light.com
SUMMARY:ISNA (Public)
DESCRIPTION:7:00 pm – Maghreb – Fall of the Tyrant Story-telling\nAfter Maghreb to 10:00 pm – Bowing of the Stars book signing
URL:https://www.stories-of-light.com/event/isna/
END:VEVENT
BEGIN:VEVENT
DTSTART;TZID=America/Halifax:20240425T090000
DTEND;TZID=America/Halifax:20240425T120000
DTSTAMP:20260423T161103
CREATED:20240418T062132Z
LAST-MODIFIED:20240418T165546Z
UID:1848-1714035600-1714046400@www.stories-of-light.com
SUMMARY:Gibraltar Leadership Academy (Private)
DESCRIPTION:
URL:https://www.stories-of-light.com/event/gibraltar-leadership-academy/
END:VEVENT
BEGIN:VEVENT
DTSTART;TZID=America/Halifax:20240421T090000
DTEND;TZID=America/Halifax:20240421T153000
DTSTAMP:20260423T161103
CREATED:20240326T115358Z
LAST-MODIFIED:20240418T165448Z
UID:1649-1713690000-1713713400@www.stories-of-light.com
SUMMARY:ISAC Retreat Workshop (Public)
DESCRIPTION:
URL:https://www.stories-of-light.com/event/isac-retreat-workshop/
END:VEVENT
BEGIN:VEVENT
DTSTART;TZID=America/Halifax:20240420T090000
DTEND;TZID=America/Halifax:20240420T170000
DTSTAMP:20260423T161103
CREATED:20240326T115320Z
LAST-MODIFIED:20240418T165433Z
UID:1647-1713603600-1713632400@www.stories-of-light.com
SUMMARY:ISAC Conference Workshop (Public)
DESCRIPTION:
URL:https://www.stories-of-light.com/event/isac-conference-workshop/
END:VEVENT
END:VCALENDAR